BEGIN:VCALENDAR
VERSION:2.0
PRODID:-//Holden House 1902 Bed &amp; Breakfast Inn - ECPv6.15.20//NONSGML v1.0//EN
CALSCALE:GREGORIAN
METHOD:PUBLISH
X-WR-CALNAME:Holden House 1902 Bed &amp; Breakfast Inn
X-ORIGINAL-URL:https://www.holdenhouse.com
X-WR-CALDESC:Events for Holden House 1902 Bed &amp; Breakfast Inn
REFRESH-INTERVAL;VALUE=DURATION:PT1H
X-Robots-Tag:noindex
X-PUBLISHED-TTL:PT1H
BEGIN:VTIMEZONE
TZID:UTC
BEGIN:STANDARD
TZOFFSETFROM:+0000
TZOFFSETTO:+0000
TZNAME:UTC
DTSTART:20140101T000000
END:STANDARD
END:VTIMEZONE
BEGIN:VEVENT
DTSTART;TZID=UTC:20150716T190000
DTEND;TZID=UTC:20150716T210000
DTSTAMP:20260423T021344
CREATED:20150713T002019Z
LAST-MODIFIED:20150713T002019Z
UID:1466-1437073200-1437080400@www.holdenhouse.com
SUMMARY:The Mezzanine- Best Rooftop Patio Bar in the City
DESCRIPTION:Open Wednesday-Saturday The Mezzanine is the Best rooftop Patio Bar in Colorado Springs with Happy Hour specials and live music!\nJuly 16 – Sheryl Renee – Jazz Cabaret\nJuly 18 – Suga Bear and The Showtime Band\nJuly 25 – Burlesque featuring Peaks and Pasties\nJuly 31 – Dueling Pianos \nFor Complete listing & Reservations call 719-428-6974\nThe Mezzanine is a enterprise of the Colorado Springs Conservatory
URL:https://www.holdenhouse.com/event/the-mezzanine-best-rooftop-patio-bar-in-the-city
LOCATION:The Mezzanine\, 20 N. Tejon\, Colorado Springs\, 80903
END:VEVENT
BEGIN:VEVENT
DTSTART;TZID=UTC:20150716T190000
DTEND;TZID=UTC:20150716T210000
DTSTAMP:20260423T021344
CREATED:20150713T025837Z
LAST-MODIFIED:20150713T025837Z
UID:1471-1437073200-1437080400@www.holdenhouse.com
SUMMARY:Summer Concert - At Glen Eyrie
DESCRIPTION:Three Evenings of elegant musical performances at the Glen Eyrie Castle followed by a beverage reception on the Terrace. \nJuly 16 – Anachron at 7:00 PM\nJuly 29-30 Acoustic Eidolon at 7:00 PM
URL:https://www.holdenhouse.com/event/summer-concert-at-glen-eyrie
LOCATION:Glen Eyrie\, 3820 N 30th St\, Colorado Springs\, 80904
END:VEVENT
END:VCALENDAR