BEGIN:VCALENDAR
VERSION:2.0
PRODID:-//Holden House 1902 Bed &amp; Breakfast Inn - ECPv6.15.20//NONSGML v1.0//EN
CALSCALE:GREGORIAN
METHOD:PUBLISH
X-ORIGINAL-URL:https://www.holdenhouse.com
X-WR-CALDESC:Events for Holden House 1902 Bed &amp; Breakfast Inn
REFRESH-INTERVAL;VALUE=DURATION:PT1H
X-Robots-Tag:noindex
X-PUBLISHED-TTL:PT1H
BEGIN:VTIMEZONE
TZID:UTC
BEGIN:STANDARD
TZOFFSETFROM:+0000
TZOFFSETTO:+0000
TZNAME:UTC
DTSTART:20140101T000000
END:STANDARD
END:VTIMEZONE
BEGIN:VEVENT
DTSTART;TZID=UTC:20150628T183000
DTEND;TZID=UTC:20150628T210000
DTSTAMP:20260423T041325
CREATED:20150530T023011Z
LAST-MODIFIED:20150530T023502Z
UID:1447-1435516200-1435525200@www.holdenhouse.com
SUMMARY:Pikes Peak Center - Chicago
DESCRIPTION:CHICAGO\nWhen: Sunday\, June 28\, 2015 – 7:30 PM (Doors open 6:30 PM)\nTicket Info: Tickets on sale now! Purchase Tickets \nHailed as one of the “most important bands in music since the dawn of the rock and roll era” by former President Bill Clinton\, the legendary rock and roll band with horns\, Chicago\, came in at #13\, the highest charting American band in Billboard Magazine’s list of Top 100 artists of all time. And Chicago is the first American rock band to chart Top 40 albums in six decades. \nChicago’s album\, Chicago Transit Authority\, was inducted into the GRAMMY Hall Of Fame in 2014\, and that year\, the band performed on the Grammy stage for the first time\, playing four songs with Grammy nominee Robin Thicke.
URL:https://www.holdenhouse.com/event/pikes-peak-center-chicago
LOCATION:Concert\, 190 S Cascade Avenue\, Colorado Springs\, CO\, 80903\, United States
CATEGORIES:band performance,music
END:VEVENT
END:VCALENDAR