BEGIN:VCALENDAR
VERSION:2.0
PRODID:-//Holden House 1902 Bed &amp; Breakfast Inn - ECPv6.15.20//NONSGML v1.0//EN
CALSCALE:GREGORIAN
METHOD:PUBLISH
X-ORIGINAL-URL:https://www.holdenhouse.com
X-WR-CALDESC:Events for Holden House 1902 Bed &amp; Breakfast Inn
REFRESH-INTERVAL;VALUE=DURATION:PT1H
X-Robots-Tag:noindex
X-PUBLISHED-TTL:PT1H
BEGIN:VTIMEZONE
TZID:UTC
BEGIN:STANDARD
TZOFFSETFROM:+0000
TZOFFSETTO:+0000
TZNAME:UTC
DTSTART:20140101T000000
END:STANDARD
END:VTIMEZONE
BEGIN:VEVENT
DTSTART;VALUE=DATE:20150621
DTEND;VALUE=DATE:20150622
DTSTAMP:20260423T041609
CREATED:20150530T024608Z
LAST-MODIFIED:20150530T024608Z
UID:1451-1434844800-1434931199@www.holdenhouse.com
SUMMARY:FATHERS DAY
DESCRIPTION:Treat Dad to a day at Holden House!
URL:https://www.holdenhouse.com/event/fathers-day
LOCATION:HOLIDAY\, 1102 W Pikes Peak Avenue\, Colorado Springs\, CO\, 80904\, United States
CATEGORIES:Father's Day,Holiday
END:VEVENT
END:VCALENDAR